BEGIN:VCALENDAR
VERSION:2.0
PRODID:-//Sophicity/Tribune/Statham, GA
BEGIN:VEVENT
DTSTAMP:20260422T202044Z
UID:2b5bab4f-7068-426e-abd4-8cca60bb64aa-3716
DTSTART:20231017T230000Z
DTEND:20231017T230000Z
CLASS:PUBLIC
SUMMARY:City Council Meeting
END:VEVENT
END:VCALENDAR
