BEGIN:VCALENDAR
VERSION:2.0
PRODID:-//Sophicity/Tribune/Statham, GA
BEGIN:VEVENT
DTSTAMP:20260422T202044Z
UID:2b5bab4f-7068-426e-abd4-8cca60bb64aa-4126
DTSTART:20211224T130000Z
DTEND:20211224T220000Z
CLASS:PUBLIC
SUMMARY:City Hall closed
END:VEVENT
END:VCALENDAR
