BEGIN:VCALENDAR
VERSION:2.0
PRODID:-//Sophicity/Tribune/Statham, GA
BEGIN:VEVENT
DTSTAMP:20260422T202044Z
UID:2b5bab4f-7068-426e-abd4-8cca60bb64aa-4224
DTSTART:20231016T223000Z
DTEND:20231016T233000Z
CLASS:PUBLIC
SUMMARY:Tree committee Meeting
END:VEVENT
END:VCALENDAR
