BEGIN:VCALENDAR
VERSION:2.0
PRODID:-//Sophicity/Tribune/Statham, GA
BEGIN:VEVENT
DTSTAMP:20260422T202034Z
UID:2b5bab4f-7068-426e-abd4-8cca60bb64aa-4286
DTSTART:20231010T150000Z
DTEND:20231010T220000Z
LOCATION:Statham Community Center
CLASS:PUBLIC
SUMMARY:The Family Fun Club Pumpkin Painting
END:VEVENT
END:VCALENDAR
