BEGIN:VCALENDAR
VERSION:2.0
PRODID:-//Sophicity/Tribune/Statham, GA
BEGIN:VEVENT
DTSTAMP:20260422T202044Z
UID:2b5bab4f-7068-426e-abd4-8cca60bb64aa-4288
DTSTART:20231028T120000Z
DTEND:20231028T160000Z
CLASS:PUBLIC
SUMMARY:Run the Boo! on Broad 5K
END:VEVENT
END:VCALENDAR
