BEGIN:VCALENDAR
VERSION:2.0
PRODID:-//Sophicity/Tribune/Statham, GA
BEGIN:VEVENT
DTSTAMP:20260423T124743Z
UID:2b5bab4f-7068-426e-abd4-8cca60bb64aa-4504
DTSTART:20250704T120000Z
DTEND:20250704T210000Z
CLASS:PUBLIC
SUMMARY:Independence Day - City Hall Closed
END:VEVENT
END:VCALENDAR
