BEGIN:VCALENDAR
VERSION:2.0
PRODID:-//Sophicity/Tribune/Statham, GA
BEGIN:VEVENT
DTSTAMP:20260422T143909Z
UID:2b5bab4f-7068-426e-abd4-8cca60bb64aa-4510
DTSTART:20251225T130000Z
DTEND:20251225T220000Z
CLASS:PUBLIC
SUMMARY:Christmas Day - City Hall Closed
END:VEVENT
END:VCALENDAR
