BEGIN:VCALENDAR
VERSION:2.0
PRODID:-//Sophicity/Tribune/Statham, GA
BEGIN:VEVENT
DTSTAMP:20260423T124719Z
UID:2b5bab4f-7068-426e-abd4-8cca60bb64aa-4624
DTSTART:20250708T223000Z
DTEND:20250708T223000Z
LOCATION:Statham Community Center, 336 Jefferson St. Statham GA 30666
CLASS:PUBLIC
SUMMARY:Events Committee Meeting
END:VEVENT
END:VCALENDAR
