BEGIN:VCALENDAR
VERSION:2.0
PRODID:-//Sophicity/Tribune/Statham, GA
BEGIN:VEVENT
DTSTAMP:20260422T173010Z
UID:2b5bab4f-7068-426e-abd4-8cca60bb64aa-4627
DTSTART:20251014T223000Z
DTEND:20251014T223000Z
LOCATION:Statham Community Center, 336 Jefferson St. Statham GA 30666
CLASS:PUBLIC
SUMMARY:Events Committee Meeting
END:VEVENT
END:VCALENDAR
