BEGIN:VCALENDAR
VERSION:2.0
PRODID:-//Sophicity/Tribune/Statham, GA
BEGIN:VEVENT
DTSTAMP:20260422T160408Z
UID:2b5bab4f-7068-426e-abd4-8cca60bb64aa-4698
DTSTART:20261006T223000Z
DTEND:20261006T223000Z
LOCATION:Statham Community Center, 336 Jefferson St. Statham GA 30666
CLASS:PUBLIC
SUMMARY:City Council Meeting - Work Session
END:VEVENT
END:VCALENDAR
